BEGIN:VCALENDAR
VERSION:2.0
PRODID:-//wp-events-plugin.com//7.2.3.1//EN
TZID:Europe/Paris
X-WR-TIMEZONE:Europe/Paris
BEGIN:VEVENT
UID:687@ufolep87.fr
DTSTART;TZID=Europe/Paris:20260221T200000
DTEND;TZID=Europe/Paris:20260221T210000
DTSTAMP:20251205T100352Z
URL:https://ufolep87.fr/evenements/concours-doublettes-petanque-24
SUMMARY:Concours Doublettes Pétanque
DESCRIPTION:\nClub: La Boule ArédienneLieu: Boulodrome Saint Yriex Horair
 e: 14h15Informations complémentaires : \n\n 	Concours double ABC\n\nOrga
 nisateur : Philipe Tichadou –&gt\; 06 16 80 32 80\n\n\n\n\n\n
CATEGORIES:Pétanque
LOCATION:Boulodrome St-Yrieix\, Boulodrome St-Yrieix\, St-Yrieix\, France
GEO:45.51379;1.203059
X-APPLE-STRUCTURED-LOCATION;VALUE=URI;X-ADDRESS=Boulodrome St-Yrieix\, St-Y
 rieix\, France;X-APPLE-RADIUS=100;X-TITLE=Boulodrome St-Yrieix:geo:45.5137
 9,1.203059
END:VEVENT
BEGIN:VTIMEZONE
TZID:Europe/Paris
X-LIC-LOCATION:Europe/Paris
BEGIN:STANDARD
DTSTART:20251026T020000
TZOFFSETFROM:+0200
TZOFFSETTO:+0100
TZNAME:CET
END:STANDARD
END:VTIMEZONE
END:VCALENDAR