BEGIN:VCALENDAR
VERSION:2.0
PRODID:-//wp-events-plugin.com//7.2.3.1//EN
TZID:Europe/Paris
X-WR-TIMEZONE:Europe/Paris
BEGIN:VEVENT
UID:711@ufolep87.fr
DTSTART;TZID=Europe/Paris:20260927T140000
DTEND;TZID=Europe/Paris:20260927T173000
DTSTAMP:20251205T110757Z
URL:https://ufolep87.fr/evenements/concours-doublette-petanque-39
SUMMARY:Concours Doublette Pétanque
DESCRIPTION:Club organisateur : Pana Loisirs Pétanque\n\n\n\nConcours ABC 
 à 14h00
CATEGORIES:Pétanque
LOCATION:Ferme du Bois des Biches - Rue des Jonques - 87350 Panazol\, Ferme
  du Bois des Biches - Rue des Jonques - 87350 Panazol\, Panazol\, France
GEO:45.824919;1.299575
X-APPLE-STRUCTURED-LOCATION;VALUE=URI;X-ADDRESS=Ferme du Bois des Biches - 
 Rue des Jonques - 87350 Panazol\, Panazol\, France;X-APPLE-RADIUS=100;X-TI
 TLE=Ferme du Bois des Biches - Rue des Jonques - 87350 Panazol:geo:45.8249
 19,1.299575
END:VEVENT
BEGIN:VTIMEZONE
TZID:Europe/Paris
X-LIC-LOCATION:Europe/Paris
BEGIN:DAYLIGHT
DTSTART:20260329T030000
TZOFFSETFROM:+0100
TZOFFSETTO:+0200
TZNAME:CEST
END:DAYLIGHT
END:VTIMEZONE
END:VCALENDAR