BEGIN:VCALENDAR
VERSION:2.0
PRODID:-//wp-events-plugin.com//7.2.3.1//EN
TZID:Europe/Paris
X-WR-TIMEZONE:Europe/Paris
BEGIN:VEVENT
UID:699@ufolep87.fr
DTSTART;TZID=Europe/Paris:20260503T140000
DTEND;TZID=Europe/Paris:20260503T140000
DTSTAMP:20251205T103416Z
URL:https://ufolep87.fr/evenements/concours-doublette-petanque-37
SUMMARY:Concours Doublette Pétanque
DESCRIPTION:Club: APSHB - St Hilaire Bonneval\n\nLieux des concours : St Hi
 laire Bonneval\n\n4 partie de 1h - Limitées à 64 équipes sur pré-inscr
 iption: 06.69.05.70.87\n\nHoraire: 14h15\n\nOrganisateur : DELANOTTE Danie
 l --&gt\; kari83.kc@gmail.com\n\n&nbsp\;\n\n&nbsp\;\n\n&nbsp\;\n\n&nbsp\;\
 n\n&nbsp\;\n\n&nbsp\;\n\n&nbsp\;\n\n&nbsp\;\n\n&nbsp\;\n\n&nbsp\;\n\n&nbsp
 \;\n\n&nbsp\;\n\n&nbsp\;\n\n&nbsp\;\n\n&nbsp\;\n\n&nbsp\;\n\n&nbsp\;\n\n&n
 bsp\;\n\n&nbsp\;\n\n&nbsp\;\n\n&nbsp\;\n\n&nbsp\;\n\n&nbsp\;\n\n&nbsp\;\n\
 n&nbsp\;\n\n&nbsp\;\n\n&nbsp\;\n\n&nbsp\;\n\n&nbsp\;\n\n&nbsp\;\n\n&nbsp\;
 \n\n&nbsp\;\n\n&nbsp\;\n\n&nbsp\;\n\n&nbsp\;\n\n&nbsp\;\n\n&nbsp\;\n\n&nbs
 p\;
CATEGORIES:Pétanque
LOCATION:Saint-Hilaire-Bonneval\, Saint-Hilaire-Bonneval\, Saint-Hilaire-Bo
 nneval\, France
GEO:45.720078;1.373767
X-APPLE-STRUCTURED-LOCATION;VALUE=URI;X-ADDRESS=Saint-Hilaire-Bonneval\, Sa
 int-Hilaire-Bonneval\, France;X-APPLE-RADIUS=100;X-TITLE=Saint-Hilaire-Bon
 neval:geo:45.720078,1.373767
END:VEVENT
BEGIN:VTIMEZONE
TZID:Europe/Paris
X-LIC-LOCATION:Europe/Paris
BEGIN:DAYLIGHT
DTSTART:20260329T030000
TZOFFSETFROM:+0100
TZOFFSETTO:+0200
TZNAME:CEST
END:DAYLIGHT
END:VTIMEZONE
END:VCALENDAR