BEGIN:VCALENDAR
VERSION:2.0
PRODID:-//wp-events-plugin.com//7.2.3.1//EN
TZID:Europe/Paris
X-WR-TIMEZONE:Europe/Paris
BEGIN:VEVENT
UID:654@ufolep87.fr
DTSTART;TZID=Europe/Paris:20260503T130000
DTEND;TZID=Europe/Paris:20260503T170000
DTSTAMP:20251128T153259Z
URL:https://ufolep87.fr/evenements/competition-vtt-des-abeilles
SUMMARY:Compétition VTT DES ABEILLES
DESCRIPTION:Club: AAJPN NEX'BIKE\n\nLieu: Lieu dit le Mazeau - La Roche l'A
 beille\n\nHoraire: départ 13h30 - 11/12 et 13/14 / départ 14h00 pour les
  15//16 - 60 + M et féminines / départ 15h00 pour les 17/19 - 20/29 - 30
 /39 - 40/49 - 50/59\n\nInformation complémentaire:\n\n 	Engagement en lig
 ne obligatoire sur le site national UFOLEP Cyclisme: https://www.ufolep-c
 yclisme.org/\n 	Initiation compétition pour les jeunes.\n 	Ravitaillement
 s\, récompenses\, point d’eau et restauration sur place.\n\nOrganisateu
 rs  :\n\nADAM FRANCOIS --&gt\; 06.71.92.92.48 / adam.françois87@orange.f
 r\n\nRAISON Olivier --&gt\; 06 33 92 23 17 et olivier.raison87@orange.fr\n
 \n&nbsp\;\n\n&nbsp\;\n\n&nbsp\;\n\n&nbsp\;\n\n&nbsp\;\n\n&nbsp\;\n\n&nbsp\
 ;\n\n&nbsp\;\n\n&nbsp\;
CATEGORIES:VTT en compétition
LOCATION:Lieu dit le Mazeau\, Lieu dit le Mazeau - La Roche l'Abeille\, La 
 Roche l'Abeille\, France
GEO:45.588369;1.266453
X-APPLE-STRUCTURED-LOCATION;VALUE=URI;X-ADDRESS=Lieu dit le Mazeau - La Roc
 he l'Abeille\, La Roche l'Abeille\, France;X-APPLE-RADIUS=100;X-TITLE=Lieu
  dit le Mazeau:geo:45.588369,1.266453
END:VEVENT
BEGIN:VTIMEZONE
TZID:Europe/Paris
X-LIC-LOCATION:Europe/Paris
BEGIN:DAYLIGHT
DTSTART:20260329T030000
TZOFFSETFROM:+0100
TZOFFSETTO:+0200
TZNAME:CEST
END:DAYLIGHT
END:VTIMEZONE
END:VCALENDAR