BEGIN:VCALENDAR
VERSION:2.0
PRODID:-//wp-events-plugin.com//7.2.3.1//EN
TZID:Europe/Paris
X-WR-TIMEZONE:Europe/Paris
BEGIN:VEVENT
UID:643@ufolep87.fr
DTSTART;TZID=Europe/Paris:20260329T133000
DTEND;TZID=Europe/Paris:20260329T190000
DTSTAMP:20251128T145232Z
URL:https://ufolep87.fr/evenements/competition-vtt-4
SUMMARY:Compétition VTT
DESCRIPTION:Club: VELO CLUB SAINT PRIEST SOUS AIXE\n\nLieu: Stade - Saint P
 riest sous aixe\n\nHoraire:\n\n 	11/12 - 13/14 - départ 13h30 - 1 tour\n 
 	15/16 - 60 +M - Féminines - Tandem - départ 14h00 - 2 tours\n 	 17/19 
 - 20/29 - 30/39 - 40/49 - 50/59 - 15h00 - 3 tours\n\nInformation compléme
 ntaire:\n\n 	Engagement en ligne obligatoire sur le site national UFOLEP C
 yclisme: https://www.ufolep-cyclisme.org/\n 	Reconnaissance possible à p
 artir du samedi après-midi.\n 	Ravitaillements\, récompenses\, point d
 ’eau potable\, pot de l’amitié et restauration sur place.\n\nOrganisa
 teurs  : Ludovic ROUDIER --&gt\; lroudier87@gmail.com / 06.48.52.22.93\n\
 nInfos tarif : Majoration de 2€ sur place\n\n&nbsp\;\n\n&nbsp\;\n\n&nbsp
 \;\n\n&nbsp\;\n\n&nbsp\;\n\n&nbsp\;\n\n&nbsp\;\n\n&nbsp\;
CATEGORIES:VTT en compétition
LOCATION:Stade de Saint-Priest-Sous-Aixe\, 2 Impasse du Stade\, SAINT-PRIES
 T-SOUS-AIXE\, France
GEO:45.813298;1.092195
X-APPLE-STRUCTURED-LOCATION;VALUE=URI;X-ADDRESS=2 Impasse du Stade\, SAINT-
 PRIEST-SOUS-AIXE\, France;X-APPLE-RADIUS=100;X-TITLE=Stade de Saint-Priest
 -Sous-Aixe:geo:45.813298,1.092195
END:VEVENT
BEGIN:VTIMEZONE
TZID:Europe/Paris
X-LIC-LOCATION:Europe/Paris
BEGIN:DAYLIGHT
DTSTART:20260329T030000
TZOFFSETFROM:+0100
TZOFFSETTO:+0200
TZNAME:CEST
END:DAYLIGHT
END:VTIMEZONE
END:VCALENDAR