BEGIN:VCALENDAR
VERSION:2.0
PRODID:-//wp-events-plugin.com//7.2.3.1//EN
TZID:Europe/Paris
X-WR-TIMEZONE:Europe/Paris
BEGIN:VEVENT
UID:622@ufolep87.fr
DTSTART;TZID=Europe/Paris:20251019T130000
DTEND;TZID=Europe/Paris:20251019T150000
DTSTAMP:20250924T131208Z
URL:https://ufolep87.fr/evenements/competition-vtt-3
SUMMARY:Compétition VTT
DESCRIPTION:Compétition VTT au Gymnase le DAC\n\nclub organisateur \; US N
 ANTIAT CYCLO\n\nEngagement en ligne sur le site UFOLEP CYCLISME : www.ufol
 ep-cyclisme.org\n\nMajoration de 2€ sur place\n\nContact : Jean Claude R
 OCHELIN\n\njc-rochelin@orange.fr / 06.09.34.54.71
CATEGORIES:Activités cyclistes ,VTT en compétition
LOCATION:Gymnase de Nantiat\, Rue André Virondeau\, Nantiat\, 87140\, Fran
 ce
GEO:46.004228;1.173465
X-APPLE-STRUCTURED-LOCATION;VALUE=URI;X-ADDRESS=Rue André Virondeau\, Nant
 iat\, 87140\, France;X-APPLE-RADIUS=100;X-TITLE=Gymnase de Nantiat:geo:46.
 004228,1.173465
END:VEVENT
BEGIN:VTIMEZONE
TZID:Europe/Paris
X-LIC-LOCATION:Europe/Paris
BEGIN:DAYLIGHT
DTSTART:20250330T030000
TZOFFSETFROM:+0100
TZOFFSETTO:+0200
TZNAME:CEST
END:DAYLIGHT
END:VTIMEZONE
END:VCALENDAR