BEGIN:VCALENDAR
VERSION:2.0
PRODID:-//wp-events-plugin.com//7.2.3.1//EN
TZID:Europe/Paris
X-WR-TIMEZONE:Europe/Paris
BEGIN:VEVENT
UID:697@ufolep87.fr
DTSTART;TZID=Europe/Paris:20260426T083000
DTEND;TZID=Europe/Paris:20260426T180000
DTSTAMP:20251205T103108Z
URL:https://ufolep87.fr/evenements/championnat-regional-de-petanque-2
SUMMARY:CHAMPIONNAT REGIONAL DE PETANQUE
DESCRIPTION:Toutes catégories sportives\nCHAMPIONNAT REGIONAL NOUVELLE - A
 QUITAINE\nBoulodrome de Saint Yrieix La Perche\nToutes catégories : T.VET
  - T.DA - T.SU - DF - DM - DJ\nJet de but à 8h30\nInscription par mail av
 ant le vendredi 17 avril\n- petanqueufolep87@gmail.com -\nRepas sur réser
 vation (voir plaquette organisation)\n\nConcours parallèle (A+B) \; Inscr
 iption à partir de 14h15 - Engagement 4€\nJet de but à 14h45\n&nbsp\;
CATEGORIES:Pétanque
LOCATION:Boulodrome de Saint Yrieix\, Rue du Colonel du Garreau de la Méch
 enie\,\, Saint-Yrieix-la-Perche\, France
GEO:45.50504;1.198379
X-APPLE-STRUCTURED-LOCATION;VALUE=URI;X-ADDRESS=Rue du Colonel du Garreau d
 e la Méchenie\,\, Saint-Yrieix-la-Perche\, France;X-APPLE-RADIUS=100;X-TI
 TLE=Boulodrome de Saint Yrieix:geo:45.50504,1.198379
END:VEVENT
BEGIN:VTIMEZONE
TZID:Europe/Paris
X-LIC-LOCATION:Europe/Paris
BEGIN:DAYLIGHT
DTSTART:20260329T030000
TZOFFSETFROM:+0100
TZOFFSETTO:+0200
TZNAME:CEST
END:DAYLIGHT
END:VTIMEZONE
END:VCALENDAR