BEGIN:VCALENDAR
VERSION:2.0
PRODID:-//wp-events-plugin.com//7.2.3.1//EN
TZID:Europe/Paris
X-WR-TIMEZONE:Europe/Paris
BEGIN:VEVENT
UID:628@ufolep87.fr
DTSTART;TZID=Europe/Paris;VALUE=DATE:20260111
DTEND;TZID=Europe/Paris;VALUE=DATE:20260112
DTSTAMP:20251128T140034Z
URL:https://ufolep87.fr/evenements/championnat-regional-cyclocross-2
SUMMARY:CHAMPIONNAT REGIONAL CYCLOCROSS
DESCRIPTION:Club: UFOLEP 87 &amp\; AAJPN NEX'BIKE\n\nLieu: Stade - ST MAURI
 CE LES BROUSSES\n\n&nbsp\;
CATEGORIES:Cyclocross
LOCATION:Stade - Nexon\, Saint Maurice les brousses\, nexon\, 87800\, Franc
 e
GEO:45.698161;1.236055
X-APPLE-STRUCTURED-LOCATION;VALUE=URI;X-ADDRESS=Saint Maurice les brousses\
 , nexon\, 87800\, France;X-APPLE-RADIUS=100;X-TITLE=Stade - Nexon:geo:45.6
 98161,1.236055
END:VEVENT
BEGIN:VTIMEZONE
TZID:Europe/Paris
X-LIC-LOCATION:Europe/Paris
BEGIN:STANDARD
DTSTART:20251026T020000
TZOFFSETFROM:+0200
TZOFFSETTO:+0100
TZNAME:CET
END:STANDARD
END:VTIMEZONE
END:VCALENDAR