BEGIN:VCALENDAR
VERSION:2.0
PRODID:-//wp-events-plugin.com//7.2.3.1//EN
TZID:Europe/Paris
X-WR-TIMEZONE:Europe/Paris
BEGIN:VEVENT
UID:640@ufolep87.fr
DTSTART;TZID=Europe/Paris;VALUE=DATE:20260322
DTEND;TZID=Europe/Paris;VALUE=DATE:20260323
DTSTAMP:20251128T144315Z
URL:https://ufolep87.fr/evenements/championnat-departemental-vtt-3
SUMMARY:CHAMPIONNAT DEPARTEMENTAL VTT
DESCRIPTION:Club: UFOLEP 87 &amp\; BEAUVALLET CYCLO CLUB\n\nLieu: Lieu dit 
 LAUZELLE\n\nOrganisateur :UFOLEP 87 --&gt\; 05.55.03.36.10 et  cd.hautevi
 enne@ufolep.org\n\ninformations complémentaire : \n\n 	pas d'inscription
  sur place\,\n 	cf plaquette et règlement départemental\n\nUFOLEP87 --&g
 t\; cd.87@ufolep.org / 05.55.03.36.10\n\n&nbsp\;\n\n&nbsp\;
CATEGORIES:VTT en compétition
END:VEVENT
BEGIN:VTIMEZONE
TZID:Europe/Paris
X-LIC-LOCATION:Europe/Paris
BEGIN:STANDARD
DTSTART:20251026T020000
TZOFFSETFROM:+0200
TZOFFSETTO:+0100
TZNAME:CET
END:STANDARD
END:VTIMEZONE
END:VCALENDAR