BEGIN:VCALENDAR
VERSION:2.0
PRODID:-//wp-events-plugin.com//7.2.3.1//EN
TZID:Europe/Paris
X-WR-TIMEZONE:Europe/Paris
BEGIN:VEVENT
UID:702@ufolep87.fr
DTSTART;TZID=Europe/Paris:20260517T083000
DTEND;TZID=Europe/Paris:20260517T170000
DTSTAMP:20251205T103810Z
URL:https://ufolep87.fr/evenements/championnat-departemental-petanque-4
SUMMARY:Championnat Départemental Pétanque
DESCRIPTION:Club organisateur : LJL Pétanque et UFOLEP 87\nCHAMPIONNAT DEP
 ARTEMENTAL\nT.VET - DM - JEUNES -\nBoulodrome de Limoges\nJet de but 08h30
 \nInscription par mail petanqueufolep87@gmail.com avant le vendredi 8 mai\
 nBuvette et restauration rapide sur place
CATEGORIES:Pétanque
LOCATION:Boulodrome de Limoges\,  Allée du Moulin Pinard\, LIMOGES\, 87\, 
 87000\, France
GEO:45.864429;1.269346
X-APPLE-STRUCTURED-LOCATION;VALUE=URI;X-ADDRESS= Allée du Moulin Pinard\, 
 LIMOGES\, 87\, 87000\, France;X-APPLE-RADIUS=100;X-TITLE=Boulodrome de Lim
 oges:geo:45.864429,1.269346
END:VEVENT
BEGIN:VTIMEZONE
TZID:Europe/Paris
X-LIC-LOCATION:Europe/Paris
BEGIN:DAYLIGHT
DTSTART:20260329T030000
TZOFFSETFROM:+0100
TZOFFSETTO:+0200
TZNAME:CEST
END:DAYLIGHT
END:VTIMEZONE
END:VCALENDAR