BEGIN:VCALENDAR
VERSION:2.0
PRODID:-//wp-events-plugin.com//7.2.3.1//EN
TZID:Europe/Paris
X-WR-TIMEZONE:Europe/Paris
BEGIN:VEVENT
UID:656@ufolep87.fr
DTSTART;TZID=Europe/Paris;VALUE=DATE:20260510
DTEND;TZID=Europe/Paris;VALUE=DATE:20260511
DTSTAMP:20251128T155331Z
URL:https://ufolep87.fr/evenements/championnat-departemental-cyclosport-3
SUMMARY:CHAMPIONNAT DEPARTEMENTAL CYCLOSPORT
DESCRIPTION:Club: UFOLEP 87 &amp\; ASSJ CYCLO\n\nLieu: SAINT JUNIEN\n\nOrga
 nisateur: Robin LAMACHE --&gt\;06 87 46 02 75\n\nEngagement en ligne oblig
 atoire \; ufolep-cyclisme.org\n\nCf. Plaquette et règlement départementa
 l\n\n&nbsp\;\n\n&nbsp\;\n\n&nbsp\;\n\n&nbsp\;\n\n&nbsp\;\n\n&nbsp\;\n\n&nb
 sp\;\n\n&nbsp\;\n\n&nbsp\;\n\n&nbsp\;\n\n&nbsp\;\n\n&nbsp\;\n\n&nbsp\;\n\n
 &nbsp\;\n\n&nbsp\;\n\n&nbsp\;\n\n&nbsp\;\n\n&nbsp\;
CATEGORIES:Cyclosport
END:VEVENT
BEGIN:VTIMEZONE
TZID:Europe/Paris
X-LIC-LOCATION:Europe/Paris
BEGIN:DAYLIGHT
DTSTART:20260329T030000
TZOFFSETFROM:+0100
TZOFFSETTO:+0200
TZNAME:CEST
END:DAYLIGHT
END:VTIMEZONE
END:VCALENDAR