BEGIN:VCALENDAR
VERSION:2.0
PRODID:-//wp-events-plugin.com//7.2.3.1//EN
TZID:Europe/Paris
X-WR-TIMEZONE:Europe/Paris
BEGIN:VEVENT
UID:703@ufolep87.fr
DTSTART;TZID=Europe/Paris:20260531T083000
DTEND;TZID=Europe/Paris:20260531T173000
DTSTAMP:20251205T104750Z
URL:https://ufolep87.fr/evenements/championnat-departemental-2
SUMMARY:CHAMPIONNAT DEPARTEMENTAL
DESCRIPTION:Club organisateur : La Boule Arédienne\n\n&nbsp\;\n\n\nCHAMPIO
 NNAT DEPARTEMENTAL\nTSU - TDA - DF\nBoulodrome Saint YRIEIX\nJet de but 08
 h30\nInscription par mail à petanqueufolep87@gmail.com avant le vendredi 
 22 mai\nRepas sur réservation (voir plaquette organisation)
CATEGORIES:Pétanque
LOCATION:Boulodrome de Saint Yrieix\, Rue du Colonel du Garreau de la Méch
 enie\,\, Saint-Yrieix-la-Perche\, France
GEO:45.50504;1.198379
X-APPLE-STRUCTURED-LOCATION;VALUE=URI;X-ADDRESS=Rue du Colonel du Garreau d
 e la Méchenie\,\, Saint-Yrieix-la-Perche\, France;X-APPLE-RADIUS=100;X-TI
 TLE=Boulodrome de Saint Yrieix:geo:45.50504,1.198379
END:VEVENT
BEGIN:VTIMEZONE
TZID:Europe/Paris
X-LIC-LOCATION:Europe/Paris
BEGIN:DAYLIGHT
DTSTART:20260329T030000
TZOFFSETFROM:+0100
TZOFFSETTO:+0200
TZNAME:CEST
END:DAYLIGHT
END:VTIMEZONE
END:VCALENDAR