BEGIN:VCALENDAR
VERSION:2.0
PRODID:-//wp-events-plugin.com//7.2.3.1//EN
TZID:Europe/Paris
X-WR-TIMEZONE:Europe/Paris
BEGIN:VEVENT
UID:717@ufolep87.fr
DTSTART;TZID=Europe/Paris:20261128T140000
DTEND;TZID=Europe/Paris:20261128T180000
DTSTAMP:20251205T112025Z
URL:https://ufolep87.fr/evenements/challenge-jean-claude-chateau-concours-
 associations-ufolep-2
SUMMARY:CHALLENGE JEAN CLAUDE CHATEAU - CONCOURS ASSOCIATIONS UFOLEP
DESCRIPTION:SAMEDI 28 NOVEMBRE\nCONCOURS ASSOCIATIONS UFOLEP\nTriplettes 14
 h00 Concours en 4 parties de 1h\nBoulodrome de Limoges\nEngagement 5€ pa
 r équipe / Coupes pour les trois premières équipes (une par joueur)\n&n
 bsp\;
CATEGORIES:Pétanque
LOCATION:Boulodrome de Limoges\,  Allée du Moulin Pinard\, LIMOGES\, 87\, 
 87000\, France
GEO:45.864429;1.269346
X-APPLE-STRUCTURED-LOCATION;VALUE=URI;X-ADDRESS= Allée du Moulin Pinard\, 
 LIMOGES\, 87\, 87000\, France;X-APPLE-RADIUS=100;X-TITLE=Boulodrome de Lim
 oges:geo:45.864429,1.269346
END:VEVENT
BEGIN:VTIMEZONE
TZID:Europe/Paris
X-LIC-LOCATION:Europe/Paris
BEGIN:STANDARD
DTSTART:20261025T020000
TZOFFSETFROM:+0200
TZOFFSETTO:+0100
TZNAME:CET
END:STANDARD
END:VTIMEZONE
END:VCALENDAR