BEGIN:VCALENDAR
VERSION:2.0
PRODID:-//wp-events-plugin.com//7.2.3.1//EN
TZID:Europe/Paris
X-WR-TIMEZONE:Europe/Paris
BEGIN:VEVENT
UID:674@ufolep87.fr
DTSTART;TZID=Europe/Paris:20260628T110000
DTEND;TZID=Europe/Paris:20260628T170000
DTSTAMP:20251203T104758Z
URL:https://ufolep87.fr/evenements/6h-de-gravel
SUMMARY:6H DE GRAVEL
DESCRIPTION:Club: ASSJ CYCLO\n\nLieu: Circuit Automobile de St Junien - ZI 
 du Pavillon - SAINT JUNIEN\n\nHoraires: Départ 11h00\n\nInformation compl
 émentaire:\n\n 	6H d'endurance Gravel sur le circuit automobile de la vil
 le de Saint Junien en solo ou en équipe.\n 	Buvette + Ravitaillement pour
  les participants pendant la course + restauration sur place\n 	Epreuve ou
 verte aux gravel / cyclocross et VTT\n 	VTTAE sont interdit\n\nOrganisateu
 r: Stéphanie AUPETIT --&gt\; stephaupetit@hotmail.fr ou ceaupetit@gmail.c
 om / Tel: 06 10 21 03 00\n\n&nbsp\;\n\n&nbsp\;\n\n&nbsp\;\n\n&nbsp\;\n\n&n
 bsp\;\n\n&nbsp\;\n\n&nbsp\;\n\n&nbsp\;\n\n&nbsp\;\n\n&nbsp\;\n\n&nbsp\;\n\
 n&nbsp\;\n\n&nbsp\;\n\n&nbsp\;\n\n&nbsp\;\n\n&nbsp\;\n\n&nbsp\;\n\n&nbsp\;
 \n\n&nbsp\;\n\n&nbsp\;\n\n&nbsp\;\n\n&nbsp\;\n\n&nbsp\;\n\n&nbsp\;\n\n&nbs
 p\;
CATEGORIES:Cyclocross,GRAVEL,VTT en compétition
LOCATION:Circuit automobile de saint junien\, ZI du pavillon \, saint junie
 n \, France
GEO:45.899372;0.931969
X-APPLE-STRUCTURED-LOCATION;VALUE=URI;X-ADDRESS=ZI du pavillon \, saint jun
 ien \, France;X-APPLE-RADIUS=100;X-TITLE=Circuit automobile de saint junie
 n:geo:45.899372,0.931969
END:VEVENT
BEGIN:VTIMEZONE
TZID:Europe/Paris
X-LIC-LOCATION:Europe/Paris
BEGIN:DAYLIGHT
DTSTART:20260329T030000
TZOFFSETFROM:+0100
TZOFFSETTO:+0200
TZNAME:CEST
END:DAYLIGHT
END:VTIMEZONE
END:VCALENDAR