BEGIN:VCALENDAR
VERSION:2.0
PRODID:-//wp-events-plugin.com//7.2.3.1//EN
TZID:Europe/Paris
X-WR-TIMEZONE:Europe/Paris
BEGIN:VEVENT
UID:662@ufolep87.fr
DTSTART;TZID=Europe/Paris:20260530T130000
DTEND;TZID=Europe/Paris:20260530T181500
DTSTAMP:20251128T160525Z
URL:https://ufolep87.fr/evenements/6e-cyclo-la-jean-jaouen
SUMMARY:6e cyclo "La Jean Jaouen"
DESCRIPTION:Club : JA ISLE\n\nHoraire : 8h45\n\nCircuits : \n\n2 CYCLOTOU
 RISME :   90km départ à 13h45  - départ à 13h50 - 70km\n\nLieu : Ma
 ison des Associations - 16 Avenue de la république\n\nInformations compl
 émentaires : Engagement en ligne possible sur Hello Asso\n\nContact \n\n-
 -&gt\; ROUSSIN Jacques : jacques.roussin-2@orange.fr / 06.73.34.15.85
CATEGORIES:Cyclotourisme,Sports de pleine nature
END:VEVENT
BEGIN:VTIMEZONE
TZID:Europe/Paris
X-LIC-LOCATION:Europe/Paris
BEGIN:DAYLIGHT
DTSTART:20260329T030000
TZOFFSETFROM:+0100
TZOFFSETTO:+0200
TZNAME:CEST
END:DAYLIGHT
END:VTIMEZONE
END:VCALENDAR