BEGIN:VCALENDAR
VERSION:2.0
PRODID:-//wp-events-plugin.com//7.2.3.1//EN
TZID:Europe/Paris
X-WR-TIMEZONE:Europe/Paris
BEGIN:VEVENT
UID:652@ufolep87.fr
DTSTART;TZID=Europe/Paris:20260426T083000
DTEND;TZID=Europe/Paris:20260426T180000
DTSTAMP:20251128T152546Z
URL:https://ufolep87.fr/evenements/34eme-viree-des-copains
SUMMARY:34ème Virée des Copains
DESCRIPTION:Club: AS Legrand Cyclisme\n\nLieu: Site de CHABANNE - Lac de Sa
 int Pardoux\n\nHoraires:\n\n 	Randonnée VTT : départ allure libre entre 
 8h00 et 9h00 / 25 km / 34 km / 43 km / 52 km\n 	Randonnée pédestre - run
 ning : départ 8h30 /13 km / 17 kms\n\nInformation complémentaire:\n\n 	E
 ngagement en ligne - scan QR CODE AFFICHE\n 	Tarif Randonnée VTT /  lice
 ncié UFOLOP : 5€ / Autre : 8€\n 	Tarif Randonnée pédestre - running
  / licencié UFOLOP : 3€ / Autre : 4€\n 	Gratuit pour les moins de 16 
 ans \n 	PAS DE RESTAURATION SUR PLACE\n\nNous espérons vous voir nombreu
 x à cette organisation\, et pour vous donner encore plus envie\, nous joi
 gnons le lien vers la vidéo disponible sur You Tube réalisée par Christ
 ophe Jonckeere qui met remarquablement en valeur la beauté des parcours e
 t des sites traversés : https://youtu.be/u89nJODkgv8\n\nContact :\n\n--&
 gt\; Jean Luc JAILLET : 06.73.03.58.97 / aslegrand.velos@gmail.com
ATTACH;FMTTYPE=image/jpeg:https://ufolep87.fr/wp-content/uploads/2025/03/C
 apture-decran-2025-03-25-105424.png
CATEGORIES:Randonnée VTT / VTTAE,Randonnées pédestres
END:VEVENT
BEGIN:VTIMEZONE
TZID:Europe/Paris
X-LIC-LOCATION:Europe/Paris
BEGIN:DAYLIGHT
DTSTART:20260329T030000
TZOFFSETFROM:+0100
TZOFFSETTO:+0200
TZNAME:CEST
END:DAYLIGHT
END:VTIMEZONE
END:VCALENDAR