BEGIN:VCALENDAR
VERSION:2.0
PRODID:-//wp-events-plugin.com//7.2.3.1//EN
TZID:Europe/Paris
X-WR-TIMEZONE:Europe/Paris
BEGIN:VEVENT
UID:621@ufolep87.fr
DTSTART;TZID=Europe/Paris:20251019T083000
DTEND;TZID=Europe/Paris:20251019T083000
DTSTAMP:20250924T130733Z
URL:https://ufolep87.fr/evenements/34e-sentiers-des-etangs
SUMMARY:34e Sentiers des Etangs
DESCRIPTION:Club : US NANTIAT CYCLO\n\nHoraire : 8h30 et 9h\n\nLieu : Gymn
 ase "Le Dac" - NANTIAT\n\nInformations complémentaires :\n\n 	Engagement 
 en ligne possible sur HelloAsso - Majoration de 2€ sur place\n 	Ravitail
 lements + lavage vélo + point d'eau potable + récompenses et pot de l'am
 itié\n 	Encadrement des enfants\n\nContact --&gt\; BUISSON Marcel : marc
 el.buisson@hotmail.fr / 06.84.54.54.08
CATEGORIES:Randonnée VTT / VTTAE,Randonnées pédestres,Sports de pleine
 nature
LOCATION:gymnase le Dac\, gymnase le Dac \, Nantiat\, France
GEO:46.003411;1.174464
X-APPLE-STRUCTURED-LOCATION;VALUE=URI;X-ADDRESS=gymnase le Dac \, Nantiat\,
  France;X-APPLE-RADIUS=100;X-TITLE=gymnase le Dac:geo:46.003411,1.174464
END:VEVENT
BEGIN:VTIMEZONE
TZID:Europe/Paris
X-LIC-LOCATION:Europe/Paris
BEGIN:DAYLIGHT
DTSTART:20250330T030000
TZOFFSETFROM:+0100
TZOFFSETTO:+0200
TZNAME:CEST
END:DAYLIGHT
END:VTIMEZONE
END:VCALENDAR