BEGIN:VCALENDAR
VERSION:2.0
PRODID:-//wp-events-plugin.com//7.2.3.1//EN
TZID:Europe/Paris
X-WR-TIMEZONE:Europe/Paris
BEGIN:VEVENT
UID:623@ufolep87.fr
DTSTART;TZID=Europe/Paris:20251026T083000
DTEND;TZID=Europe/Paris:20251026T140000
DTSTAMP:20250924T131435Z
URL:https://ufolep87.fr/evenements/34e-frederic-mistral
SUMMARY:34e Frédéric Mistral
DESCRIPTION:Club : GUIDON BELLACHON SPORTS DE PLEINE NATURE\n\nHoraire : 8
 h30\n\nLieu : Stade de Blond\n\nInformations complémentaires :\n\n 	INFOR
 MATIONS SUR https://www.guidonbellachon.org/ et inscriptions sur HelloAss
 o pour tous\n 	Café d'accueil\, 2 ravitaillements par circuit VTT + pot d
 e l'amitié + récompenses\n 	Lot souvenir spécial Frédéric Mistral sur
  les circuits VTT\n 	Vestiaires + douches + parking autour du stade de Blo
 nd\n\nContact --&gt\; GAILLEDRAT Antoine : guidon.bellachon.spnd@gmail.co
 m / 06.08.40.09.68
CATEGORIES:Activités cyclistes ,VTT en compétition
LOCATION:stade de Blond\, stade de Blond\, Blond\, France
GEO:46.043085;1.02395
X-APPLE-STRUCTURED-LOCATION;VALUE=URI;X-ADDRESS=stade de Blond\, Blond\, Fr
 ance;X-APPLE-RADIUS=100;X-TITLE=stade de Blond:geo:46.043085,1.02395
END:VEVENT
BEGIN:VTIMEZONE
TZID:Europe/Paris
X-LIC-LOCATION:Europe/Paris
BEGIN:STANDARD
DTSTART:20251026T020000
TZOFFSETFROM:+0200
TZOFFSETTO:+0100
TZNAME:CET
END:STANDARD
END:VTIMEZONE
END:VCALENDAR