BEGIN:VCALENDAR
VERSION:2.0
PRODID:-//wp-events-plugin.com//7.2.3.1//EN
TZID:Europe/Paris
X-WR-TIMEZONE:Europe/Paris
BEGIN:VEVENT
UID:624@ufolep87.fr
DTSTART;TZID=Europe/Paris:20251026T083000
DTEND;TZID=Europe/Paris:20251026T140000
DTSTAMP:20250924T132331Z
URL:https://ufolep87.fr/evenements/34e-frederic-mistral-randonnees
SUMMARY:34e Frédéric Mistral Randonnées
DESCRIPTION:Club : GUIDON BELLACHON SPORTS DE PLEINE NATURE\n\nHoraire : 8
 h30\n\nLieu : Stade de Blond\n\nInformations complémentaires :\n\n 	INFOR
 MATIONS SUR https://www.guidonbellachon.org/ et inscriptions sur HelloAss
 o pour tous\n 	Pédestres - Running départ à 8h30\n 	Rando VTT-VVTAE -\n
  	départ à 8h45 pour le 42km\n 	- 8h50 pour le 35km\n 	- 8h55 pour le 22
 km\n 	- 9h20 pour le 15km\n\nContact --&gt\; ANTOINE ALCHAME DE ROFFIGNAC 
  : guidon.bellachon.spnd@gmail.com / 06.08.40.09.68
CATEGORIES:Activités cyclistes ,VTT en compétition
LOCATION:stade de Blond\, stade de Blond\, Blond\, France
GEO:46.043085;1.02395
X-APPLE-STRUCTURED-LOCATION;VALUE=URI;X-ADDRESS=stade de Blond\, Blond\, Fr
 ance;X-APPLE-RADIUS=100;X-TITLE=stade de Blond:geo:46.043085,1.02395
END:VEVENT
BEGIN:VTIMEZONE
TZID:Europe/Paris
X-LIC-LOCATION:Europe/Paris
BEGIN:STANDARD
DTSTART:20251026T020000
TZOFFSETFROM:+0200
TZOFFSETTO:+0100
TZNAME:CET
END:STANDARD
END:VTIMEZONE
END:VCALENDAR