BEGIN:VCALENDAR
VERSION:2.0
PRODID:-//wp-events-plugin.com//7.2.3.1//EN
TZID:Europe/Paris
X-WR-TIMEZONE:Europe/Paris
BEGIN:VEVENT
UID:627@ufolep87.fr
DTSTART;TZID=Europe/Paris:20251130T134500
DTEND;TZID=Europe/Paris:20251130T180000
DTSTAMP:20251027T154513Z
URL:https://ufolep87.fr/evenements/1er-cyclocross-des-bayles
SUMMARY:1er Cyclocross des Bayles
DESCRIPTION:Club : JA ISLE VELO\n\nHoraire : 13:45 et 15:00\n\nLieu : Espac
 e des Bayles - Avenue du Chateau\n\nInformations complémentaires :\n\n 	E
 ngagement en ligne sur le site national UFOLEP Cyclisme : https://www.ufo
 lep-cyclisme.org/\n 	Pour toutes les catégories appel 10 minutes avant le
  départ\n\nContact --&gt\; Lionel ANDRIEU - ja.isle.velo87@gmail.com - 06
 .32.62.38.26
CATEGORIES:Activités cyclistes ,Cyclocross
END:VEVENT
BEGIN:VTIMEZONE
TZID:Europe/Paris
X-LIC-LOCATION:Europe/Paris
BEGIN:STANDARD
DTSTART:20251026T020000
TZOFFSETFROM:+0200
TZOFFSETTO:+0100
TZNAME:CET
END:STANDARD
END:VTIMEZONE
END:VCALENDAR