BEGIN:VCALENDAR
VERSION:2.0
PRODID:-//wp-events-plugin.com//7.2.3.1//EN
TZID:Europe/Paris
X-WR-TIMEZONE:Europe/Paris
BEGIN:VEVENT
UID:650@ufolep87.fr
DTSTART;TZID=Europe/Paris:20260426T083000
DTEND;TZID=Europe/Paris:20260426T173000
DTSTAMP:20251128T151350Z
URL:https://ufolep87.fr/evenements/14-eme-enduro-des-taufflards
SUMMARY:14 ème Enduro des Taufflards
DESCRIPTION:Club: TAUFFLARD TEAM\n\nLieu: Salle des fêtes\n\nHoraire: 8h30
 \n\nInformation complémentaire:\n\n 	6 spéciales chronométrées sur cir
 cuit unique de 27km 900m +\n 	Prix 24 euros.\n 	Inscription uniquement sur
  internet début mars\n 	Limité à 120 places sur l'enduro (chronométrag
 e) et 50 places sur le randuro (sans chronométrage)\n 	Ravitaillement\, r
 écompense\, lavage vélo\, point d'eau potable\, restauration sur place e
 t pot de l'amitié\n\nOrganisateur : PANTEIX Cyril --&gt\; 06 07 47 81 96 
 et cyril.panteix@gmail.com\n\n&nbsp\;\n\n&nbsp\;\n\n&nbsp\;\n\n&nbsp\;\n\n
 &nbsp\;\n\n&nbsp\;\n\n&nbsp\;\n\n&nbsp\;\n\n&nbsp\;\n\n&nbsp\;
CATEGORIES:VTT en compétition
LOCATION:LES CARS\, Salle des Gîtes des Ribières\, Les cars\, France
GEO:45.677526;1.076803
X-APPLE-STRUCTURED-LOCATION;VALUE=URI;X-ADDRESS=Salle des Gîtes des Ribiè
 res\, Les cars\, France;X-APPLE-RADIUS=100;X-TITLE=LES CARS:geo:45.677526,
 1.076803
END:VEVENT
BEGIN:VTIMEZONE
TZID:Europe/Paris
X-LIC-LOCATION:Europe/Paris
BEGIN:DAYLIGHT
DTSTART:20260329T030000
TZOFFSETFROM:+0100
TZOFFSETTO:+0200
TZNAME:CEST
END:DAYLIGHT
END:VTIMEZONE
END:VCALENDAR