BEGIN:VCALENDAR
VERSION:2.0
PRODID:-//wp-events-plugin.com//7.2.3.1//EN
TZID:Europe/Paris
X-WR-TIMEZONE:Europe/Paris
BEGIN:VEVENT
UID:647@ufolep87.fr
DTSTART;TZID=Europe/Paris:20260418T134500
DTEND;TZID=Europe/Paris:20260418T134500
DTSTAMP:20251128T150219Z
URL:https://ufolep87.fr/evenements/1-2-journee-cyclo-flavignac-4
SUMMARY:1/2 journée cyclo Flavignac
DESCRIPTION:Club: UC FLAVIGNAC\n\nLieu: Flavignac - maison des associations
 \n\nHoraire:\n\n 	départ 13h45 - 80 km (dénivelé 1050)\n 	départ 14h30
  - 54 km\n 	départ 15h15 - 35 km (allure libre encadrée)\n\nOrganisateur
  :\n\n--&gt\; DAL ERIC -&gt\; alxeric@orange.fr / 06.83.24.52.60\n\nInform
 ation complémentaire : \n\n 	Port du casque obligatoire\, respect du cod
 e de la route\n\n&nbsp\;\n\n&nbsp\;\n\n&nbsp\;
CATEGORIES:Cyclotourisme
LOCATION:Flavignac\, Salle des fêtes\, Flavignac\, France
GEO:45.704344;1.09086
X-APPLE-STRUCTURED-LOCATION;VALUE=URI;X-ADDRESS=Salle des fêtes\, Flavigna
 c\, France;X-APPLE-RADIUS=100;X-TITLE=Flavignac:geo:45.704344,1.09086
END:VEVENT
BEGIN:VTIMEZONE
TZID:Europe/Paris
X-LIC-LOCATION:Europe/Paris
BEGIN:DAYLIGHT
DTSTART:20260329T030000
TZOFFSETFROM:+0100
TZOFFSETTO:+0200
TZNAME:CEST
END:DAYLIGHT
END:VTIMEZONE
END:VCALENDAR